BEGIN:VCALENDAR
VERSION:2.0
PRODID:-//Software Center - ECPv5.8.1//NONSGML v1.0//EN
CALSCALE:GREGORIAN
METHOD:PUBLISH
X-WR-CALNAME:Software Center
X-ORIGINAL-URL:https://www.software-center.se
X-WR-CALDESC:Events for Software Center
BEGIN:VTIMEZONE
TZID:Europe/Stockholm
BEGIN:DAYLIGHT
TZOFFSETFROM:+0100
TZOFFSETTO:+0200
TZNAME:CEST
DTSTART:20190331T010000
END:DAYLIGHT
BEGIN:STANDARD
TZOFFSETFROM:+0200
TZOFFSETTO:+0100
TZNAME:CET
DTSTART:20191027T010000
END:STANDARD
END:VTIMEZONE
BEGIN:VEVENT
DTSTART;TZID=Europe/Stockholm:20190226T100000
DTEND;TZID=Europe/Stockholm:20190226T123000
DTSTAMP:20260423T014658
CREATED:20190213T195203Z
LAST-MODIFIED:20190224T125808Z
UID:1538-1551175200-1551184200@www.software-center.se
SUMMARY:Systems Engineering meeting
DESCRIPTION:Welcome to Chalmers at Lindholmen\, Gothenburg\, for the second Software Center Systems Engineering meeting: February 26 at 10.00-12.30. \nThis meeting is exclusively for Software Center members\, please register at this link and use the registration form to share your requests for specific topics for the meeting.: \nhttps://goo.gl/forms/4BcaNCRnZiKWGgah1 \nAgenda\n10:00-10:15 Introduction\, round of introductions\, purpose of the workshop \n10:15-10:30 Setting the scene – Jan Bosch\, Software Center \n10:30-11:00 A Systems Engineering perspective – Robert Nilsson\, Volvo Cars & INCOSE (The International Council on Systems Engineering) \n11:00-12:00 Discussion to identify key challenges and select the ones to focus on \n12:00-12:20 Planning of next steps \n12:20-12:30 Feedback\, closing \n  \nWe are looking forward to seeing you!
URL:https://www.software-center.se/event/1538/
LOCATION:Chalmers\, Lindholmen\, Hörselgången 5\, Gothenburg\, 41756\, Sweden
END:VEVENT
END:VCALENDAR