BEGIN:VCALENDAR
VERSION:2.0
PRODID:-//Software Center - ECPv5.8.1//NONSGML v1.0//EN
CALSCALE:GREGORIAN
METHOD:PUBLISH
X-WR-CALNAME:Software Center
X-ORIGINAL-URL:https://www.software-center.se
X-WR-CALDESC:Events for Software Center
BEGIN:VTIMEZONE
TZID:Europe/Stockholm
BEGIN:DAYLIGHT
TZOFFSETFROM:+0100
TZOFFSETTO:+0200
TZNAME:CEST
DTSTART:20260329T010000
END:DAYLIGHT
BEGIN:STANDARD
TZOFFSETFROM:+0200
TZOFFSETTO:+0100
TZNAME:CET
DTSTART:20261025T010000
END:STANDARD
END:VTIMEZONE
BEGIN:VEVENT
DTSTART;TZID=Europe/Stockholm:20260318T130000
DTEND;TZID=Europe/Stockholm:20260318T140000
DTSTAMP:20260426T003233
CREATED:20260318T125800Z
LAST-MODIFIED:20260421T193851Z
UID:10541-1773838800-1773842400@www.software-center.se
SUMMARY:Show-and-tell: Agentic Development
DESCRIPTION:AI show-and-tell: Agentic Development @ Bosch R&D Center Lund \nAbstract:\nIt is clear that multi-agent approach is a paradigm shift for software and AI development. Bosch is and have done a few years a transformation towards new ways of working to embrace this paradigm shift with the target to become an AI native organization. This presentation will describe on a high level the iterative transformation approach and some of the lessons learned. \nPresenter:\nRobert Lagerstedt has 30 years of experience in leading software and ai development both from fast growing companies with 100 developers to large multinational corporations with 3000+ developers. Robert is also active in research and is the author of the books “Software Management – System & Architecture” and “Embedded AIoT Architecture Handbook”. \nRobert has the last 10 years been active in building a new Bosch R&D Center in Lund and is currently responsible for technology and engineering excellence.
URL:https://www.software-center.se/event/agentic-development-2/
LOCATION:Virtual meeting\, Sweden
CATEGORIES:Seminar
ORGANIZER;CN="Miroslaw%20Staron":MAILTO:Miroslaw.Staron@cse.gu.se
END:VEVENT
END:VCALENDAR