BEGIN:VCALENDAR
VERSION:2.0
PRODID:-//Software Center - ECPv5.8.1//NONSGML v1.0//EN
CALSCALE:GREGORIAN
METHOD:PUBLISH
X-WR-CALNAME:Software Center
X-ORIGINAL-URL:https://www.software-center.se
X-WR-CALDESC:Events for Software Center
BEGIN:VTIMEZONE
TZID:Europe/Stockholm
BEGIN:DAYLIGHT
TZOFFSETFROM:+0100
TZOFFSETTO:+0200
TZNAME:CEST
DTSTART:20260329T010000
END:DAYLIGHT
BEGIN:STANDARD
TZOFFSETFROM:+0200
TZOFFSETTO:+0100
TZNAME:CET
DTSTART:20261025T010000
END:STANDARD
END:VTIMEZONE
BEGIN:VEVENT
DTSTART;TZID=Europe/Stockholm:20260410T130000
DTEND;TZID=Europe/Stockholm:20260410T140000
DTSTAMP:20260423T221222
CREATED:20260421T192530Z
LAST-MODIFIED:20260421T192530Z
UID:10966-1775826000-1775829600@www.software-center.se
SUMMARY:Show & tell: AI for Testing: From Proof of Concept to Productification & PoC to Failures
DESCRIPTION:In this session\, we’ll take an engaging journey through real-world lessons learned while bridging the gap between AI-powered testing prototypes and robust\, production-ready solutions. I’ll discuss the practical challenges that arise when moving from proof of concept (PoC) to full productification\, including the hurdles faced and some failed PoCs that provided invaluable insights. We’ll dive into topics such as strategic test case selection\, tackling the notorious challenge of flaky tests\, automated test case generation\, and fault classification using AI. The talk will also explore how an AI data lake can accelerate testing workflows. Demos will bring these concepts to life\, showcasing automation in action and demonstrating how these innovations are shaping the future of software testing.
URL:https://www.software-center.se/event/ai-for-testing-from-proof-of-concept/
LOCATION:Virtual meeting\, Sweden
CATEGORIES:Seminar
ORGANIZER;CN="Miroslaw%20Staron":MAILTO:Miroslaw.Staron@cse.gu.se
END:VEVENT
END:VCALENDAR