BEGIN:VCALENDAR
VERSION:2.0
PRODID:-//Software Center - ECPv5.8.1//NONSGML v1.0//EN
CALSCALE:GREGORIAN
METHOD:PUBLISH
X-WR-CALNAME:Software Center
X-ORIGINAL-URL:https://www.software-center.se
X-WR-CALDESC:Events for Software Center
BEGIN:VTIMEZONE
TZID:Europe/Stockholm
BEGIN:DAYLIGHT
TZOFFSETFROM:+0100
TZOFFSETTO:+0200
TZNAME:CEST
DTSTART:20260329T010000
END:DAYLIGHT
BEGIN:STANDARD
TZOFFSETFROM:+0200
TZOFFSETTO:+0100
TZNAME:CET
DTSTART:20261025T010000
END:STANDARD
END:VTIMEZONE
BEGIN:VEVENT
DTSTART;TZID=Europe/Stockholm:20261012T090000
DTEND;TZID=Europe/Stockholm:20261012T093000
DTSTAMP:20260423T012301
CREATED:20260422T073447Z
LAST-MODIFIED:20260422T073447Z
UID:11000-1791795600-1791797400@www.software-center.se
SUMMARY:Coordination team meeting
DESCRIPTION:October 12 (9-09:30) Coordination team meeting
URL:https://www.software-center.se/event/coordination-team-meeting-102/
LOCATION:Virtual meeting\, Sweden
CATEGORIES:Meeting
ORGANIZER;CN="Jan%20Bosch":MAILTO:jan.bosch@chalmers.se
END:VEVENT
END:VCALENDAR