BEGIN:VCALENDAR
VERSION:2.0
PRODID:-//Software Center - ECPv5.8.1//NONSGML v1.0//EN
CALSCALE:GREGORIAN
METHOD:PUBLISH
X-WR-CALNAME:Software Center
X-ORIGINAL-URL:https://www.software-center.se
X-WR-CALDESC:Events for Software Center
BEGIN:VTIMEZONE
TZID:Europe/Stockholm
BEGIN:DAYLIGHT
TZOFFSETFROM:+0100
TZOFFSETTO:+0200
TZNAME:CEST
DTSTART:20260329T010000
END:DAYLIGHT
BEGIN:STANDARD
TZOFFSETFROM:+0200
TZOFFSETTO:+0100
TZNAME:CET
DTSTART:20261025T010000
END:STANDARD
END:VTIMEZONE
BEGIN:VEVENT
DTSTART;TZID=Europe/Stockholm:20261204T120000
DTEND;TZID=Europe/Stockholm:20261204T140000
DTSTAMP:20260422T183457
CREATED:20260422T073949Z
LAST-MODIFIED:20260422T073949Z
UID:11008-1796385600-1796392800@www.software-center.se
SUMMARY:Deadline sprint 32 project proposals
DESCRIPTION:December 4: Deadline sprint 32 project proposals
URL:https://www.software-center.se/event/deadline-sprint-32-project-proposals/
LOCATION:Virtual meeting\, Sweden
CATEGORIES:Deadline
ORGANIZER;CN="Jan%20Bosch":MAILTO:jan.bosch@chalmers.se
END:VEVENT
END:VCALENDAR