BEGIN:VCALENDAR
VERSION:2.0
PRODID:-//Software Center - ECPv5.8.1//NONSGML v1.0//EN
CALSCALE:GREGORIAN
METHOD:PUBLISH
X-WR-CALNAME:Software Center
X-ORIGINAL-URL:https://www.software-center.se
X-WR-CALDESC:Events for Software Center
BEGIN:VTIMEZONE
TZID:Europe/Stockholm
BEGIN:DAYLIGHT
TZOFFSETFROM:+0100
TZOFFSETTO:+0200
TZNAME:CEST
DTSTART:20260329T010000
END:DAYLIGHT
BEGIN:STANDARD
TZOFFSETFROM:+0200
TZOFFSETTO:+0100
TZNAME:CET
DTSTART:20261025T010000
END:STANDARD
END:VTIMEZONE
BEGIN:VEVENT
DTSTART;TZID=Europe/Stockholm:20260824T130000
DTEND;TZID=Europe/Stockholm:20260824T170000
DTSTAMP:20260423T043124
CREATED:20260422T073203Z
LAST-MODIFIED:20260422T073203Z
UID:10996-1787576400-1787590800@www.software-center.se
SUMMARY:General Assembly and strategy workshop
DESCRIPTION:August 24 (13-17) General Assembly and strategy workshop
URL:https://www.software-center.se/event/ga-strategy-workshop-10/
LOCATION:Lindholmen\, building Jupiter\, room 520\, Hörselgången 5\, Göteborg\, 41756\, Sweden
ORGANIZER;CN="Jan%20Bosch":MAILTO:jan.bosch@chalmers.se
END:VEVENT
END:VCALENDAR