BEGIN:VCALENDAR
VERSION:2.0
PRODID:-//Software Center - ECPv5.8.1//NONSGML v1.0//EN
CALSCALE:GREGORIAN
METHOD:PUBLISH
X-WR-CALNAME:Software Center
X-ORIGINAL-URL:https://www.software-center.se
X-WR-CALDESC:Events for Software Center
BEGIN:VTIMEZONE
TZID:Europe/Stockholm
BEGIN:DAYLIGHT
TZOFFSETFROM:+0100
TZOFFSETTO:+0200
TZNAME:CEST
DTSTART:20260329T010000
END:DAYLIGHT
BEGIN:STANDARD
TZOFFSETFROM:+0200
TZOFFSETTO:+0100
TZNAME:CET
DTSTART:20261025T010000
END:STANDARD
END:VTIMEZONE
BEGIN:VEVENT
DTSTART;VALUE=DATE:20260416
DTEND;VALUE=DATE:20260418
DTSTAMP:20260423T183412
CREATED:20260421T194950Z
LAST-MODIFIED:20260421T194950Z
UID:10980-1776297600-1776470399@www.software-center.se
SUMMARY:Grundfos AI Day
DESCRIPTION:
URL:https://www.software-center.se/event/grundfos-ai-day/
LOCATION:Grundfos\, Bjerringbro\, Denmark\, Denmark
ORGANIZER;CN="Miroslaw%20Staron":MAILTO:Miroslaw.Staron@cse.gu.se
END:VEVENT
END:VCALENDAR