BEGIN:VCALENDAR
VERSION:2.0
PRODID:-//Software Center - ECPv5.8.1//NONSGML v1.0//EN
CALSCALE:GREGORIAN
METHOD:PUBLISH
X-WR-CALNAME:Software Center
X-ORIGINAL-URL:https://www.software-center.se
X-WR-CALDESC:Events for Software Center
BEGIN:VTIMEZONE
TZID:Europe/Stockholm
BEGIN:DAYLIGHT
TZOFFSETFROM:+0100
TZOFFSETTO:+0200
TZNAME:CEST
DTSTART:20220327T010000
END:DAYLIGHT
BEGIN:STANDARD
TZOFFSETFROM:+0200
TZOFFSETTO:+0100
TZNAME:CET
DTSTART:20221030T010000
END:STANDARD
END:VTIMEZONE
BEGIN:VEVENT
DTSTART;TZID=Europe/Stockholm:20220516T090000
DTEND;TZID=Europe/Stockholm:20220517T170000
DTSTAMP:20260424T045025
CREATED:20220410T153215Z
LAST-MODIFIED:20220410T153215Z
UID:4750-1652691600-1652806800@www.software-center.se
SUMMARY:International Conference on AI Engineering
DESCRIPTION:Keynotes:\nWe are excited to announce the following two keynotes. \n\nSaleema Amershi (Microsoft Research): Challenges in creating responsible and human-centered AI\nChristopher Re (Stanford University): Software 2.0\, Foundation Models\, Data-Centric AI\, and why I’m excited enough to tolerate these buzzwords.\n\n  \nRegistration and more information:\nhttps://conf.researchr.org/home/cain-2022 \nThe CAIN workshop is co-located with the ICSE 2022 conference:\nhttps://conf.researchr.org/home/icse-2022 \n  \n 
URL:https://www.software-center.se/event/international-conference-on-ai-engineering/
LOCATION:Virtual event\, Sweden
CATEGORIES:Conference
ORGANIZER;CN="Jan%20Bosch":MAILTO:jan.bosch@chalmers.se
END:VEVENT
END:VCALENDAR