BEGIN:VCALENDAR
VERSION:2.0
PRODID:-//Software Center - ECPv5.8.1//NONSGML v1.0//EN
CALSCALE:GREGORIAN
METHOD:PUBLISH
X-WR-CALNAME:Software Center
X-ORIGINAL-URL:https://www.software-center.se
X-WR-CALDESC:Events for Software Center
BEGIN:VTIMEZONE
TZID:Europe/Stockholm
BEGIN:DAYLIGHT
TZOFFSETFROM:+0100
TZOFFSETTO:+0200
TZNAME:CEST
DTSTART:20210328T010000
END:DAYLIGHT
BEGIN:STANDARD
TZOFFSETFROM:+0200
TZOFFSETTO:+0100
TZNAME:CET
DTSTART:20211031T010000
END:STANDARD
END:VTIMEZONE
BEGIN:VEVENT
DTSTART;TZID=Europe/Stockholm:20210201T120000
DTEND;TZID=Europe/Stockholm:20210201T123000
DTSTAMP:20260424T084058
CREATED:20201217T084633Z
LAST-MODIFIED:20210121T132151Z
UID:2464-1612180800-1612182600@www.software-center.se
SUMMARY:Lunch seminar: Privacy-aware machine learning method: Federated Learning
DESCRIPTION:Presenter: Hongyi Zhang\, PhD student\, Chalmers \nFederated Learning is an improved Machine Learning approach which enables edge devices to collaboratively learn a shared machine learning model. The data exchanged between the edge and central server are no longer user data but the updated model weights. Furthermore\, as this model training method is distributed\, there are chances to make the model become smarter and adapt to their environment. (For example\, devices in Malmö and Stockholm can have slightly different models based on their unique environment.) Due to the rapid increase of data collected on the edge\, it will become more expensive to gather data into a centralized server or cloud. Machine learning with distributed edge training will be the main approach for future AI engineering. This is also why Federated Learning is essential to industries. \nAdvantages of Federated Learning: \n\nPrivacy-Preserving\nNo need to send training data to a cloud or single server\nFast model deployment and evolution\nLow latency and efficient bandwidth utilization\n\nThere is a classic deployment from Google\, where they deployed Federated Learning in Gboard (A Mobile App) to collaboratively train models for improving keyboard query and predicting emoji. \nIn the software center\, we made close collaboration with industries. With Volvo Cars\, we validated Federated Learning in various industrial cases\, such as steering wheel angle prediction\, objective recognition\, etc. We have proved the efficiency of FL and further improved the technique by introducing asynchronous protocols for heterogeneous hardware settings in real-world cases. With Sahlgrenska University Hospital\, we are trying to help them estimate their resource allocation in a distributed manner and investigate the methods to continuously enhance the data privacy and security when applying machine learning in the medical health care field. \nAs the next step of our research\, we would like to investigate the possibility of Federated Learning with various industrial scenarios. We will try to adding autonomously improving mechanism into participated nodes to enhance the model quality and node autonomy. We are eager to collaborate with companies to help them accelerate and improve system autonomy of their machine learning procedure. \n__________________________________________________ \nMicrosoft Teams meeting \nJoin on your computer or mobile app\n \nClick here to join the meeting \n 
URL:https://www.software-center.se/event/lunch-seminar-ai-engineering-2/
LOCATION:Virtual event\, Sweden
ORGANIZER;CN="Jan%20Bosch":MAILTO:jan.bosch@chalmers.se
END:VEVENT
END:VCALENDAR