BEGIN:VCALENDAR
VERSION:2.0
PRODID:-//Software Center - ECPv5.8.1//NONSGML v1.0//EN
CALSCALE:GREGORIAN
METHOD:PUBLISH
X-WR-CALNAME:Software Center
X-ORIGINAL-URL:https://www.software-center.se
X-WR-CALDESC:Events for Software Center
BEGIN:VTIMEZONE
TZID:Europe/Stockholm
BEGIN:DAYLIGHT
TZOFFSETFROM:+0100
TZOFFSETTO:+0200
TZNAME:CEST
DTSTART:20210328T010000
END:DAYLIGHT
BEGIN:STANDARD
TZOFFSETFROM:+0200
TZOFFSETTO:+0100
TZNAME:CET
DTSTART:20211031T010000
END:STANDARD
END:VTIMEZONE
BEGIN:VEVENT
DTSTART;TZID=Europe/Stockholm:20210111T120000
DTEND;TZID=Europe/Stockholm:20210111T123000
DTSTAMP:20260424T190339
CREATED:20201217T084345Z
LAST-MODIFIED:20210305T155809Z
UID:2458-1610366400-1610368200@www.software-center.se
SUMMARY:Lunch seminar: "For a few dollars more... we forgot our process"
DESCRIPTION:Title: “For a few dollars more… we forgot our process” \nSpeaker: Antonio Martini \nDescription: Process improvement might be down-prioritized exactly like software quality. Besides the well-known Technical Debt\, we should also pay attention to possibly dangerous Process Debt. In this talk I’ll introduce the concept and share a few interesting findings for the first investigation with the software center companies. \nLink to the recorded presentation >>
URL:https://www.software-center.se/event/lunch-seminar-continuous-architecture/
LOCATION:Virtual event\, Sweden
ORGANIZER;CN="Jan%20Carlson":MAILTO:jan.carlson@mdh.se
END:VEVENT
END:VCALENDAR