BEGIN:VCALENDAR
VERSION:2.0
PRODID:-//Software Center - ECPv5.8.1//NONSGML v1.0//EN
CALSCALE:GREGORIAN
METHOD:PUBLISH
X-WR-CALNAME:Software Center
X-ORIGINAL-URL:https://www.software-center.se
X-WR-CALDESC:Events for Software Center
BEGIN:VTIMEZONE
TZID:Europe/Stockholm
BEGIN:DAYLIGHT
TZOFFSETFROM:+0100
TZOFFSETTO:+0200
TZNAME:CEST
DTSTART:20220327T010000
END:DAYLIGHT
BEGIN:STANDARD
TZOFFSETFROM:+0200
TZOFFSETTO:+0100
TZNAME:CET
DTSTART:20221030T010000
END:STANDARD
END:VTIMEZONE
BEGIN:VEVENT
DTSTART;TZID=Europe/Stockholm:20220404T120000
DTEND;TZID=Europe/Stockholm:20220404T123000
DTSTAMP:20260424T190851
CREATED:20220330T121056Z
LAST-MODIFIED:20220330T121056Z
UID:4712-1649073600-1649075400@www.software-center.se
SUMMARY:Lunch seminar: Critical Requirements Engineering
DESCRIPTION:Speaker: Ola Leifler\, LiU\n\n\nUnderstanding how to efficiently build and deploy software\, whether through continuous integration\, adoption of AI techniques or service-based business models\, requires critical thinking and reflection on ideas and outcomes. Similarly\, critical thinking is essential in understanding what to build and why. Critical requirements engineering is a term to describe a framework for critically analyzing the reasoning behind and decisions taken in designing new systems. This talk will present an outline of the Critical Systems Heuristics which form the basis for thinking about requirements\, and how to employ Critical Requirements Engineering as part of a design process.\n_________________________________________________\n\nMicrosoft Teams meeting\n\nJoin on your computer or mobile app\nClick here to join the meeting\n\nOr call in (audio only)\n+46 8 505 323 41\,\,170344399#   Sweden\, Stockholm\n\nPhone Conference ID: 170 344 399# \nFind a local number | Reset PIN\n\n\n\nLearn More | Help | Meeting options\n\n\n______________________________
URL:https://www.software-center.se/event/lunch-seminar-critical-requirements-engineering/
LOCATION:Virtual event\, Sweden
CATEGORIES:Lunch seminar
ORGANIZER;CN="Kristian%20Sandahl":MAILTO:kristian.sandahl@liu.se
END:VEVENT
END:VCALENDAR