BEGIN:VCALENDAR
VERSION:2.0
PRODID:-//Software Center - ECPv5.8.1//NONSGML v1.0//EN
CALSCALE:GREGORIAN
METHOD:PUBLISH
X-WR-CALNAME:Software Center
X-ORIGINAL-URL:https://www.software-center.se
X-WR-CALDESC:Events for Software Center
BEGIN:VTIMEZONE
TZID:Europe/Stockholm
BEGIN:DAYLIGHT
TZOFFSETFROM:+0100
TZOFFSETTO:+0200
TZNAME:CEST
DTSTART:20210328T010000
END:DAYLIGHT
BEGIN:STANDARD
TZOFFSETFROM:+0200
TZOFFSETTO:+0100
TZNAME:CET
DTSTART:20211031T010000
END:STANDARD
END:VTIMEZONE
BEGIN:VEVENT
DTSTART;TZID=Europe/Stockholm:20210322T120000
DTEND;TZID=Europe/Stockholm:20210322T123000
DTSTAMP:20260424T205639
CREATED:20210302T103248Z
LAST-MODIFIED:20210325T175646Z
UID:2521-1616414400-1616416200@www.software-center.se
SUMMARY:Lunch seminar: "Towards SysML v2 - Should you be worried about technical debt?"
DESCRIPTION:Speaker: Antonio Cicchetti\, Mälardalen University \nDescription: SysML is a language devoted to system modelling\, suitable for tackling the challenges of modern industrial systems development. Currently\, a new version is about to be standardized\, SysML v2. This new version contains a lot of relevant features\, but required a complete redesign with respect to previous versions. In this presentation we introduce some key novelties of SysML v2 and then discuss what users can expect as side effects due to migration from older versions to the new one. \nLink to the recorded presentation >> \nLink to presentation slides >>
URL:https://www.software-center.se/event/lunch-seminar-organized-by-theme-2/
LOCATION:MS Teams
ORGANIZER;CN="Jan%20Carlson":MAILTO:jan.carlson@mdh.se
END:VEVENT
END:VCALENDAR