BEGIN:VCALENDAR
VERSION:2.0
PRODID:-//Software Center - ECPv5.8.1//NONSGML v1.0//EN
CALSCALE:GREGORIAN
METHOD:PUBLISH
X-WR-CALNAME:Software Center
X-ORIGINAL-URL:https://www.software-center.se
X-WR-CALDESC:Events for Software Center
BEGIN:VTIMEZONE
TZID:Europe/Stockholm
BEGIN:DAYLIGHT
TZOFFSETFROM:+0100
TZOFFSETTO:+0200
TZNAME:CEST
DTSTART:20210328T010000
END:DAYLIGHT
BEGIN:STANDARD
TZOFFSETFROM:+0200
TZOFFSETTO:+0100
TZNAME:CET
DTSTART:20211031T010000
END:STANDARD
END:VTIMEZONE
BEGIN:VEVENT
DTSTART;TZID=Europe/Stockholm:20210329T120000
DTEND;TZID=Europe/Stockholm:20210329T123000
DTSTAMP:20260425T023034
CREATED:20210322T205652Z
LAST-MODIFIED:20210511T153616Z
UID:2573-1617019200-1617021000@www.software-center.se
SUMMARY:Lunch seminar: Test Case Selection In The Presence of Class Noise: A Controlled Experiment
DESCRIPTION:Theme 3 (Metrics) invites to the next brown bag seminar about the machine learning-related topics. This week we have Khaled Al-Sabbagh presenting his work on the reduction of class noise. \nMachine learning models have been increasingly used to support decision making in software engineering tasks. One example of its application is the optimization of test case selection in continuous integration. Among the challenges that hinders the application of machine learning is the amount of noise that comes in the data\, which often leads to a decrease in classification performances. For this reason\, we examine the impact of one type of noise\, called class noise\, on a learner’s ability for selecting test cases. Understanding the impact of class noise on the performance of a learner for test case selection would assist testers decide on the appropriateness of different noise handling strategies. The results show a statistically significant relationship between class noise and the learner’s performance for test case selection. We conclude that higher class noise in training data leads to missing out more tests in the predicted subset of test suite and increases the rate of false alarms when the level of class noise exceeds 30%. \nLink to the recorded presentation on YouTube:\nhttps://youtu.be/wua_v-K-z34 \n 
URL:https://www.software-center.se/event/lunch-seminar-test-case-selection-in-the-presence-of-class-noise-a-controlled-experiment/
LOCATION:Virtual event\, Sweden
CATEGORIES:Lunch seminar
ORGANIZER;CN="Miroslaw%20Staron":MAILTO:Miroslaw.Staron@cse.gu.se
END:VEVENT
END:VCALENDAR