BEGIN:VCALENDAR
VERSION:2.0
PRODID:-//Software Center - ECPv5.8.1//NONSGML v1.0//EN
CALSCALE:GREGORIAN
METHOD:PUBLISH
X-WR-CALNAME:Software Center
X-ORIGINAL-URL:https://www.software-center.se
X-WR-CALDESC:Events for Software Center
BEGIN:VTIMEZONE
TZID:Europe/Stockholm
BEGIN:DAYLIGHT
TZOFFSETFROM:+0100
TZOFFSETTO:+0200
TZNAME:CEST
DTSTART:20220327T010000
END:DAYLIGHT
BEGIN:STANDARD
TZOFFSETFROM:+0200
TZOFFSETTO:+0100
TZNAME:CET
DTSTART:20221030T010000
END:STANDARD
END:VTIMEZONE
BEGIN:VEVENT
DTSTART;TZID=Europe/Stockholm:20220516T120000
DTEND;TZID=Europe/Stockholm:20220516T123000
DTSTAMP:20260424T025645
CREATED:20220509T060643Z
LAST-MODIFIED:20220509T060643Z
UID:4823-1652702400-1652704200@www.software-center.se
SUMMARY:Lunch seminar: Test Environments for Large-Scale Software Systems
DESCRIPTION:Title: Test Environments for Large-Scale Software Systems – Intrinsic and Extrinsic Success Factors \nSpeaker: Torvald Mårtensson\, Saab AB (Software Center Project #6) \nAbstract: Based on a study including five Software Center companies\, this talk presents intrinsic and extrinsic success factors\, critical for successful implementations of test environments for large-scale and complex software systems. We find that successful implementations of test environments for large-scale software systems depend primarily on how they support the company’s business strategy\, test organization and product testability (the extrinsic success factors). Based on this\, test environments can then be optimized to improve test environment capabilities\, usability and stability (the intrinsic success factors). Furthermore\, this talk will show how challenges in the test environment are to a great extent related to hardware systems\, even though all five case study companies describe themselves as software companies. Finally\, we will describe how test environments are a vital part of the continuous integration and delivery pipeline\, and must evolve in the same way as new test cases are continuously added to the pipeline. A clear responsibility for this continuously ongoing task (central or distributed) seems to be crucial for successful implementations of efficient and effective test environments for large-scale software systems. \n____________________________________________________________ \nMicrosoft Teams-möte \nJobba på datorn eller mobilappen \nKlicka här för att ansluta till mötet \nEller ring in (endast ljud) \n+46 8 505 323 41\,\,218351957#   Sweden\, Stockholm \nTelefonkonferens-ID: 218 351 957# \n____________________________________________________________
URL:https://www.software-center.se/event/lunch-seminar-test-environments-for-large-scale-software-systems/
LOCATION:Virtual event\, Sweden
CATEGORIES:Lunch seminar
END:VEVENT
END:VCALENDAR