BEGIN:VCALENDAR
VERSION:2.0
PRODID:-//Software Center - ECPv5.8.1//NONSGML v1.0//EN
CALSCALE:GREGORIAN
METHOD:PUBLISH
X-WR-CALNAME:Software Center
X-ORIGINAL-URL:https://www.software-center.se
X-WR-CALDESC:Events for Software Center
BEGIN:VTIMEZONE
TZID:Europe/Stockholm
BEGIN:DAYLIGHT
TZOFFSETFROM:+0100
TZOFFSETTO:+0200
TZNAME:CEST
DTSTART:20220327T010000
END:DAYLIGHT
BEGIN:STANDARD
TZOFFSETFROM:+0200
TZOFFSETTO:+0100
TZNAME:CET
DTSTART:20221030T010000
END:STANDARD
END:VTIMEZONE
BEGIN:VEVENT
DTSTART;TZID=Europe/Stockholm:20220411T120000
DTEND;TZID=Europe/Stockholm:20220411T123000
DTSTAMP:20260424T173034
CREATED:20220405T093237Z
LAST-MODIFIED:20220405T093237Z
UID:4738-1649678400-1649680200@www.software-center.se
SUMMARY:Lunch seminar: The ASIL-Palette for FuSa and SOTIF
DESCRIPTION:Welcome to the next Software Center lunch seminar hosted by theme 2:\nThe ASIL-Palette for FuSa and SOTIF: focus on the “true” value of controllability and the need for its dynamic reconfiguration \nSpeaker: Barbara Gallina\, MDU \nIn this talk\, the notion of ASIL-Automotive Safety Integrity Level will be recalled as well as its role for functional safety (FuSa) and safety of the intended functionality (SOTIF). Then\, the attention will be focused on controllability\, one of the attributes charactering the ASIL. The goal of the talk is to gradually reveal the socio-technical nature of the automotive systems (organisational/regulatory aspects\, human drivers\, and technology) and the need for their dynamic reconfiguration\, based on the “true” value of controllability for effective safety. The orchestration of a simplified Lane Departure Warning System\, the corresponding standards and regulations\, and human drivers will be in focus for illustrating such a need. \nMost welcome to the seminar and please share this invitation with your colleagues! \n_____________________________________________ \nMicrosoft Teams-möte \nJobba på datorn eller mobilappen \nKlicka här för att ansluta till mötet \nEller ring in (endast ljud) \n+46 8 505 218 36\,\,90751672#   Sweden\, Stockholm \nTelefonkonferens-ID: 907 516 72# \nHitta ett lokalt nummer | Återställ PIN-kod \nLäs mer | Mötesalternativ
URL:https://www.software-center.se/event/lunch-seminar-the-asil-palette-for-fusa-and-sotif/
CATEGORIES:Lunch seminar
ORGANIZER;CN="Jan%20Carlson":MAILTO:jan.carlson@mdh.se
END:VEVENT
END:VCALENDAR