BEGIN:VCALENDAR
VERSION:2.0
PRODID:-//Software Center - ECPv5.8.1//NONSGML v1.0//EN
CALSCALE:GREGORIAN
METHOD:PUBLISH
X-WR-CALNAME:Software Center
X-ORIGINAL-URL:https://www.software-center.se
X-WR-CALDESC:Events for Software Center
BEGIN:VTIMEZONE
TZID:Europe/Stockholm
BEGIN:DAYLIGHT
TZOFFSETFROM:+0100
TZOFFSETTO:+0200
TZNAME:CEST
DTSTART:20210328T010000
END:DAYLIGHT
BEGIN:STANDARD
TZOFFSETFROM:+0200
TZOFFSETTO:+0100
TZNAME:CET
DTSTART:20211031T010000
END:STANDARD
END:VTIMEZONE
BEGIN:VEVENT
DTSTART;TZID=Europe/Stockholm:20210215T120000
DTEND;TZID=Europe/Stockholm:20210215T123000
DTSTAMP:20260424T114248
CREATED:20210208T193453Z
LAST-MODIFIED:20210305T161448Z
UID:2509-1613390400-1613392200@www.software-center.se
SUMMARY:Lunch seminar: “There\, but what about Back Again? – Propagating manual modifications from generated code to the design model”
DESCRIPTION:Title: “There\, but what about Back Again? – Propagating manual modifications from generated code to the design model” \nSpeaker: Robbert Jongeling\, MDH \nAbstract:\nIn one of its forms\, model-based development brings the benefit of complete code generation from design models. The generated code may be subject to manual changes for several reasons\, such as fixing errors after code-level testing\, or adjusting the code for different variants of targeted hardware. As a consequence of these manual changes\, the consistency between the design model and code is likely lost. To ensure the maintainability of the model and code\, this consistency must be restored. In particular\, the manual changes to the generated code must be reflected in the design model too\, i.e.\, the model-code round-trip should be completed. In this talk\, we share our experiences of developing an approach and implementing a prototype solution for completing a model-code round-trip in an industrial setting where code generation is already established. \nLink to the recorded presentations >>
URL:https://www.software-center.se/event/lunch-seminar-there-but-what-about-back-again-propagating-manual-modifications-from-generated-code-to-the-design-model/
LOCATION:MS Teams
ORGANIZER;CN="Jan%20Carlson":MAILTO:jan.carlson@mdh.se
END:VEVENT
END:VCALENDAR