BEGIN:VCALENDAR
VERSION:2.0
PRODID:-//Software Center - ECPv5.8.1//NONSGML v1.0//EN
CALSCALE:GREGORIAN
METHOD:PUBLISH
X-WR-CALNAME:Software Center
X-ORIGINAL-URL:https://www.software-center.se
X-WR-CALDESC:Events for Software Center
BEGIN:VTIMEZONE
TZID:Europe/Stockholm
BEGIN:DAYLIGHT
TZOFFSETFROM:+0100
TZOFFSETTO:+0200
TZNAME:CEST
DTSTART:20220327T010000
END:DAYLIGHT
BEGIN:STANDARD
TZOFFSETFROM:+0200
TZOFFSETTO:+0100
TZNAME:CET
DTSTART:20221030T010000
END:STANDARD
END:VTIMEZONE
BEGIN:VEVENT
DTSTART;TZID=Europe/Stockholm:20220321T120000
DTEND;TZID=Europe/Stockholm:20220321T123000
DTSTAMP:20260424T233450
CREATED:20220317T134423Z
LAST-MODIFIED:20220317T134455Z
UID:4509-1647864000-1647865800@www.software-center.se
SUMMARY:Lunch seminar: Transitioning to Continuous Deployment in Software-Intensive Embedded Systems
DESCRIPTION:The seminar is hosted by theme 4 (‘Customer Data and Ecosystems’) and as our speaker\, we have the privilege to welcome Anas Dakkak from Ericsson AB: \n“From fairy tale to reality: Transitioning to Continuous Deployment in Software-Intensive Embedded Systems”\nContinuous deployment has become a widespread practice in the software industry\, especially among companies developing web and cloud-based applications. The expected advantages of continuous deployment are many; however\, some of the most obvious are faster time to market\, quicker feedback\, and the ability to experiment with real users. While the same advantages are sought by companies working in the embedded software space\, adopting continuous deployment to software-intensive embedded systems is often challenging. Several reasons have been identified as obstacles limiting organizations from transitioning to continuous deployment\, such as high reliability and availability requirements\, difficulty to roll-back the software\, and the long cycle of customer acceptance and regression testing procedures. \nThis presentation will present the success factors that companies need to consider when transitioning to continuous deployment and show the perceived benefits\, based on a case study conducted at Ericsson AB. Ericsson has been practicing continuous deployment for several years in the radio baseband product line covering 3G\, 4G\, and 5G technologies. Continuous deployment is a cornerstone activity at Ericsson to enable higher quality software and shorting in the feedback and time to market. \nBio:\nAnas Dakkak is the head of customer support systems management at Ericsson AB. He has more than 15 years of experience in the telecommunication industry\, where he worked with a variety of areas such as R&D\, technical management\, and customer support. His interests cover agile methodologies\, continuous practices\, and systems architecture. Anas holds two MSc degrees: Telecommunications Engineering from Blekinge Tekniska Högskola\, and Operations & Production Management from Chalmers University.\n_______________________________ \n\nMicrosoft Teams meeting\n\nJoin on your computer or mobile app\nClick here to join the meeting \n\n\nOr call in (audio only)\n+46 8 505 252 11\,\,129250542#   Sweden\, Stockholm\n\nPhone Conference ID: 129 250 542# \nFind a local number | Reset PIN\nLearn More | Meeting options
URL:https://www.software-center.se/event/lunch-seminar-transitioning-to-continuous-deployment-in-software-intensive-embedded-systems/
LOCATION:Virtual event\, Sweden
CATEGORIES:Lunch seminar
ORGANIZER;CN="Helena%20Holmstr%C3%B6m%20Olsson":MAILTO:helena.holmstrom.olsson@mau.se
END:VEVENT
END:VCALENDAR