BEGIN:VCALENDAR
VERSION:2.0
PRODID:-//Software Center - ECPv5.8.1//NONSGML v1.0//EN
CALSCALE:GREGORIAN
METHOD:PUBLISH
X-WR-CALNAME:Software Center
X-ORIGINAL-URL:https://www.software-center.se
X-WR-CALDESC:Events for Software Center
BEGIN:VTIMEZONE
TZID:Europe/Stockholm
BEGIN:DAYLIGHT
TZOFFSETFROM:+0100
TZOFFSETTO:+0200
TZNAME:CEST
DTSTART:20210328T010000
END:DAYLIGHT
BEGIN:STANDARD
TZOFFSETFROM:+0200
TZOFFSETTO:+0100
TZNAME:CET
DTSTART:20211031T010000
END:STANDARD
END:VTIMEZONE
BEGIN:VEVENT
DTSTART;TZID=Europe/Stockholm:20210208T120000
DTEND;TZID=Europe/Stockholm:20210208T123000
DTSTAMP:20260424T100125
CREATED:20210121T121339Z
LAST-MODIFIED:20210217T155228Z
UID:2497-1612785600-1612787400@www.software-center.se
SUMMARY:Lunch seminar: Optimized Scheduling of Feature-Based Test Execution
DESCRIPTION:As test suites grow larger and more complex\, the time and resources required to execute the test suite also grows accordingly. This is particularly true for companies developing diverse product lines\, who must execute portions of the test suite on compatible hardware units with the features required by those test cases. We have recently begun to explore the topic of how to efficiently parallelize the execution of test cases across a pool of available hardware units. We propose a search-based test scheduling method that attempts to optimize the estimated execution time and utilization of the hardware pool. In this talk\, we will present our initial ideas\, the results from an early pilot study\, and our plans to integrate this approach into the test execution infrastructure at a Software Center partner company. \nSpeaker: Gregory Gay \nSlides \nAudio file
URL:https://www.software-center.se/event/optimized-scheduling-of-feature-based-test-execution/
END:VEVENT
END:VCALENDAR