BEGIN:VCALENDAR
VERSION:2.0
PRODID:-//Software Center - ECPv5.8.1//NONSGML v1.0//EN
CALSCALE:GREGORIAN
METHOD:PUBLISH
X-WR-CALNAME:Software Center
X-ORIGINAL-URL:https://www.software-center.se
X-WR-CALDESC:Events for Software Center
BEGIN:VTIMEZONE
TZID:Europe/Stockholm
BEGIN:DAYLIGHT
TZOFFSETFROM:+0100
TZOFFSETTO:+0200
TZNAME:CEST
DTSTART:20190331T010000
END:DAYLIGHT
BEGIN:STANDARD
TZOFFSETFROM:+0200
TZOFFSETTO:+0100
TZNAME:CET
DTSTART:20191027T010000
END:STANDARD
END:VTIMEZONE
BEGIN:VEVENT
DTSTART;TZID=Europe/Stockholm:20190226T130000
DTEND;TZID=Europe/Stockholm:20190226T153000
DTSTAMP:20260423T000021
CREATED:20190213T194655Z
LAST-MODIFIED:20190220T202225Z
UID:1534-1551186000-1551195000@www.software-center.se
SUMMARY:Product Management workshop
DESCRIPTION:This meeting is exclusively for Software Center members\, please register at this link: \nhttps://goo.gl/forms/suTOq5UulMogqmCG2 \nAgenda\n13:00 – 13:15: Welcome and introduction of participants \n13:15 – 14:00: Introductory presentation by Helena Holmström Olsson: “What digitalization should mean to you”\n(30 minutes presentation + 15 minutes discussion) \n14:00 – 14:30: Company presentation by Henric Stenhoff from Ericsson (20 minutes presentation + 10 minutes discussion) \n14:30 – 15:00: Activities to help accelerate change (group) \n15:00 – 15:20: Next steps and collaboration format (future events\, activities of interest\, knowledge exchange opportunities\, site visits etc.) \n15:20 – 15:30: Retrospective and concluding remarks
URL:https://www.software-center.se/event/product-management-workshop/
LOCATION:Chalmers\, Lindholmen\, Hörselgången 5\, Gothenburg\, 41756\, Sweden
END:VEVENT
END:VCALENDAR