BEGIN:VCALENDAR
VERSION:2.0
PRODID:-//Software Center - ECPv5.8.1//NONSGML v1.0//EN
CALSCALE:GREGORIAN
METHOD:PUBLISH
X-WR-CALNAME:Software Center
X-ORIGINAL-URL:https://www.software-center.se
X-WR-CALDESC:Events for Software Center
BEGIN:VTIMEZONE
TZID:Europe/Stockholm
BEGIN:DAYLIGHT
TZOFFSETFROM:+0100
TZOFFSETTO:+0200
TZNAME:CEST
DTSTART:20220327T010000
END:DAYLIGHT
BEGIN:STANDARD
TZOFFSETFROM:+0200
TZOFFSETTO:+0100
TZNAME:CET
DTSTART:20221030T010000
END:STANDARD
END:VTIMEZONE
BEGIN:VEVENT
DTSTART;TZID=Europe/Stockholm:20220124T120000
DTEND;TZID=Europe/Stockholm:20220124T123000
DTSTAMP:20260425T130318
CREATED:20220119T082720Z
LAST-MODIFIED:20220119T092413Z
UID:4357-1643025600-1643027400@www.software-center.se
SUMMARY:Lunch seminar: Results from a survey about AI and testing
DESCRIPTION:Artificial intelligence (AI) is becoming increasingly prevalent in software testing\, as evidenced by a recent report from the World Quality Report (WQR) for the year 2019-2020. Typically\, the use of AI in software testing results in a faster\, better\, and more budgeted testing process. Artificial intelligence-based testing\, thus\, provides a strategic framework for software testers to utilize AI and elevate the testing process\, resulting in higher-quality results for companies. AI-based software testing refers to the leverage of AI methods and solutions to automatically optimize a software test process in test strategy selection\, test generation\, test selection and execution\, bug detection and analysis\, and quality prediction. Similarly\, testing AI/ML systems/components refer to diverse testing activities for AI-based software/systems. Well-defined quality validation models\, methods\, techniques\, and tools must be developed and applied for AI-based software to facilitate the test activities to achieve well-defined test requirements and meet adequate testing criteria. \nWe conducted a survey of SC organizations in project 30 to learn about their day-to-day operations in terms of AI for Testing / Testing for AI. \nThe results of the survey and the needs of SC companies will be discussed at this event \nSpeaker: Azeem Ahmad\, LiU
URL:https://www.software-center.se/event/results-from-a-survey-about-ai-and-testing/
CATEGORIES:Lunch seminar
END:VEVENT
END:VCALENDAR