BEGIN:VCALENDAR
VERSION:2.0
PRODID:-//Software Center - ECPv5.8.1//NONSGML v1.0//EN
CALSCALE:GREGORIAN
METHOD:PUBLISH
X-WR-CALNAME:Software Center
X-ORIGINAL-URL:https://www.software-center.se
X-WR-CALDESC:Events for Software Center
BEGIN:VTIMEZONE
TZID:Europe/Stockholm
BEGIN:DAYLIGHT
TZOFFSETFROM:+0100
TZOFFSETTO:+0200
TZNAME:CEST
DTSTART:20220327T010000
END:DAYLIGHT
BEGIN:STANDARD
TZOFFSETFROM:+0200
TZOFFSETTO:+0100
TZNAME:CET
DTSTART:20221030T010000
END:STANDARD
END:VTIMEZONE
BEGIN:VEVENT
DTSTART;TZID=Europe/Stockholm:20220512T130000
DTEND;TZID=Europe/Stockholm:20220512T160000
DTSTAMP:20260424T062457
CREATED:20220321T081440Z
LAST-MODIFIED:20220426T085929Z
UID:4524-1652360400-1652371200@www.software-center.se
SUMMARY:Software Center Assembly in Linköping
DESCRIPTION:Place: Universitetsklubben\, Olaus Magnus väg 29 (Campus Valla)\, Linköping \nAt last\, the covid-19 restrictions are revoked\, and it is possible to meet in person to engage in creative discussions and forming new collaborations. We are therefore happy to invite you to the Software Center Linköping Assembly 2022 where we will present an overview of Software Center\, disseminate two recent investigations\, and explore opportunities for further collaboration. \nWhat is Software Center?\nSoftware Center is a research consortium of 17 companies and 5 universities working with research and experience exchange in the areas of software engineering\, digitalization\, and AI. Compared to many other competence centers it is self-financed\, driven by company needs\, and has a high degree of company-to-company activities working under a common NDA. \nWho is invited?\nCurrent Software Center members active in Östergötland (Linköping University\, Axis Communications\, Ericsson\, Saab\, Toyota Material Handling) and select members of the local software engineering community. The number of seats is limited. \nHow much does it cost?\nParticipating in the Assembly is free of charge. \nRegistration:\nContact Kristian Sandahl \nLong afternoon with PowerPoint?\nNo\, this is an interactive event with small-group discussions in between the presentations. \nWhat topics are on the agenda? \n\nIntroduction and presentation of Software Center and what it means for your business\nExploratory testing of large and complex software systems\nMob programming\nSoftware Center future directions\n\nSpeakers \n\nJan Bosch\, Professor of Software Engineering at Chalmers\, founder and director of Software Center\nTorvald Mårtensson\, Technical Fellow at Saab Aeronautics\nDaniel Ståhl\, Subject Matter Expert at Ericsson\, Associate Professor of Software Engineering at LiU\nKristian Sandahl\, Professor of Software Engineering at LiU\, Theme leader Continuous Delivery
URL:https://www.software-center.se/event/sc_ws_liu/
LOCATION:Virtual event\, Sweden
CATEGORIES:Meeting
ORGANIZER;CN="Kristian%20Sandahl":MAILTO:kristian.sandahl@liu.se
END:VEVENT
END:VCALENDAR