BEGIN:VCALENDAR
VERSION:2.0
PRODID:-//Software Center - ECPv5.8.1//NONSGML v1.0//EN
CALSCALE:GREGORIAN
METHOD:PUBLISH
X-WR-CALNAME:Software Center
X-ORIGINAL-URL:https://www.software-center.se
X-WR-CALDESC:Events for Software Center
BEGIN:VTIMEZONE
TZID:Europe/Stockholm
BEGIN:DAYLIGHT
TZOFFSETFROM:+0100
TZOFFSETTO:+0200
TZNAME:CEST
DTSTART:20220327T010000
END:DAYLIGHT
BEGIN:STANDARD
TZOFFSETFROM:+0200
TZOFFSETTO:+0100
TZNAME:CET
DTSTART:20221030T010000
END:STANDARD
END:VTIMEZONE
BEGIN:VEVENT
DTSTART;TZID=Europe/Stockholm:20220519T093000
DTEND;TZID=Europe/Stockholm:20220519T123000
DTSTAMP:20260424T012330
CREATED:20220323T211539Z
LAST-MODIFIED:20220516T061504Z
UID:4684-1652952600-1652963400@www.software-center.se
SUMMARY:Software Center Event at Malmö University: Software\, Data and AI in Industry
DESCRIPTION:Finally\, and after two years of online events\, we are able to invite you to an in-person event to which we bring researchers and practitioners together for knowledge exchange\, sharing of best practices and networking. The Software Center event in Malmö will include an introduction to Software Center – who we are\, what we do and what is next – and presentations from industry with a focus on digital technologies and how these are reshaping business. \nThe workshop is an open hybrid event and will take place Malmö University\, Malmö (online participation will also be possible). Necessary information and the link to the event will be distributed after registration. \nDoors open at 09:00 and the program starts at 09:30. Coffee is served during the morning and we have presentations running from 09:30 – 12:30\, including both research and company presentations. \nRegistration:\nat this link >> \nPlace:\nThe event is located at Storm Innovation Hub\, Malmö University in Malmö (Citadellsvägen 7) \nLink to Microsoft Teams meeting\nJoin on your computer or mobile app: \nClick here to join the meeting \nOr call in (audio only) \n+46 8 505 252 11\,\,717450029#   Sweden\, Stockholm \nPhone Conference ID: 717 450 029# \nFind a local number | Reset PIN \nLearn More | Meeting options \n______________________________________________ \nWhat is Software Center?\nSoftware Center is a research collaboration consisting of 17 companies in the embedded systems domain and 5 Swedish universities with the overall mission to significantly improve the digitalization capability of the European software-intensive industry. \nWho are members of Software Center?\nOur industry members are: Ericsson\, Saab\, Volvo Cars\, AB Volvo\, Siemens\, Jeppesen (Boeing)\, Scania\, CEVT\, Tetra Pak\, DEIF\, Axis Communications\, BOSCH\, Grundfos\, ESAB\, Zenseact\, Toyota and Qamcom \nOur university members are: Chalmers\, Gothenburg University\, Mälardalen University\, Malmö University and Linköping University \nWhat does Software Center do?\nIn Software Center\, researchers and practitioners work closely together in six-months sprints to identify\, explore and solve challenges in the areas of software engineering\, digitalization\, and AI. Our research themes include\, continuous architecture\, continuous delivery\, metrics\, customer data and ecosystems and AI engineering. \nWho is invited to the Software Center event in Malmö?\nAll member companies and universities are invited\, as well as industry representatives from companies external to Software Center. \nAgenda:\n\nDigitalization is transforming industry to an extent that we have only seen the beginnings of. Across domains\, companies experience rapid changes to their existing practices due to technologies such as software\, data and artificial intelligence (AI). At this event\, we focus on software\, data and AI and how companies in the embedded systems domain experience the opportunities and the challenges that digital technologies bring. The agenda for the event looks as follows: \n09:00 – 09:30: Mingling and coffee \n09:30 – 09:45: Welcome and introduction (Helena H. Olsson and Andreas Jacobsson) \n09:45 – 10:00: Software Center: The Next Decade (Jan Bosch) \n10:00 – 10:30: “We protect what’s good: Exploring and Embracing Artificial Intelligence”\, Paolo Scarabelli\, Director – Innovation\, Capabilities and Partnerships (Automation & Digital)\, Tetra Pak and Mattia Verasani\, Senior Deep Learning Engineer – Early Innovation and Partnerships (Automation & Digital)\, Tetra Pak \n10:30 – 11:00: “Machine Learning Supported Continuous Architecture Management”\, Robert Lagerstedt\, Principal Software Architect\, Robert Bosch GmbH \n11:00 – 11:15: Break \n11:15 – 11:45: “Causality in Software Online Experimentation”\, Yuchu Liu\, Industrial PhD student\, Volvo Cars Corporation \n11:45 – 12:15: “AxisSolutions@home – How Axis’s employees contribute to software quality”\, Tommy Gribe\, Product Owner\, Axis Communications \n12:15-12:30 Next steps\, wrap up and closing \n12:30-   …     LUNCH! \nMost welcome – we hope to meet you on May 19th! \n 
URL:https://www.software-center.se/event/sc_ws_malmo/
LOCATION:Malmö University\, Malmö\, Sweden
CATEGORIES:Workshop
ORGANIZER;CN="Helena%20Holmstr%C3%B6m%20Olsson":MAILTO:helena.holmstrom.olsson@mau.se
END:VEVENT
END:VCALENDAR