BEGIN:VCALENDAR
VERSION:2.0
PRODID:-//Software Center - ECPv5.8.1//NONSGML v1.0//EN
CALSCALE:GREGORIAN
METHOD:PUBLISH
X-WR-CALNAME:Software Center
X-ORIGINAL-URL:https://www.software-center.se
X-WR-CALDESC:Events for Software Center
BEGIN:VTIMEZONE
TZID:Europe/Stockholm
BEGIN:DAYLIGHT
TZOFFSETFROM:+0100
TZOFFSETTO:+0200
TZNAME:CEST
DTSTART:20210328T010000
END:DAYLIGHT
BEGIN:STANDARD
TZOFFSETFROM:+0200
TZOFFSETTO:+0100
TZNAME:CET
DTSTART:20211031T010000
END:STANDARD
END:VTIMEZONE
BEGIN:VEVENT
DTSTART;TZID=Europe/Stockholm:20210119T110000
DTEND;TZID=Europe/Stockholm:20210119T130000
DTSTAMP:20260424T133516
CREATED:20201214T100728Z
LAST-MODIFIED:20201215T155503Z
UID:2438-1611054000-1611061200@www.software-center.se
SUMMARY:Sprint 20 kick-off workshop for project 5 and 9
DESCRIPTION:Most welcome to the sprint 20 kick-off workshop for project 5 (‘Accelerating Digitalization Through Data’) and project 9 (‘Strategic Ecosystem Driven R&D Management’). \nIn both projects\, we have had very rewarding collaborations and a number of different research activities related to digital transformation and the implications of this. As two primary topics of interest\, we explored digital business models and data monetization. In addition\, we complemented our work on value modeling of features and products with the topic of business agility. We presented ‘Business Agility 2.0’ and what we see companies need in order to achieve continuous delivery and improvement of value. \nIn addition to the research project activities\, we organized three PdM community workshops on topics closely related to the research projects. In sprint 20\, we plan to continue this workshop series and we will share separate invites for these. \nFor the sprint kick-off\, we plan a two-hour workshop were we present each project and the activities we plan for sprint 20. For each project\, and after a short project presentation\, we engage in a group discussion where we also look to identify those companies that are interested in active participation and collaboration during the sprint. \nAgenda: \n\n11:00 – 12:00: Project 5 (‘Accelerating Digitalization Through Data’)\n12:00 – 13:00: Project 9 (‘Strategic Ecosystem Driven R&D Management’)\n\nYou are most welcome to the workshop and we also ask you to please help us forward this invite to colleagues that you think might have an interest in one or both of these projects. You can join for the full workshop or only dial in for one of the projects. The workshop is virtual and the Microsoft Teams link can be found in the end of this invite. \nWe look forward to see you and to kick off what we hope will be another great sprint. \nFor any questions\, please contact helena.holmstrom.olsson@mau.se  \nLink to the meeting in MS Teams 
URL:https://www.software-center.se/event/sprint-20-kick-off-workshop-for-project-5-and-9/
LOCATION:Virtual event\, Sweden
ORGANIZER;CN="Helena%20Holmstr%C3%B6m%20Olsson":MAILTO:helena.holmstrom.olsson@mau.se
END:VEVENT
END:VCALENDAR