BEGIN:VCALENDAR
VERSION:2.0
PRODID:-//Software Center - ECPv5.8.1//NONSGML v1.0//EN
CALSCALE:GREGORIAN
METHOD:PUBLISH
X-WR-CALNAME:Software Center
X-ORIGINAL-URL:https://www.software-center.se
X-WR-CALDESC:Events for Software Center
BEGIN:VTIMEZONE
TZID:Europe/Stockholm
BEGIN:DAYLIGHT
TZOFFSETFROM:+0100
TZOFFSETTO:+0200
TZNAME:CEST
DTSTART:20260329T010000
END:DAYLIGHT
BEGIN:STANDARD
TZOFFSETFROM:+0200
TZOFFSETTO:+0100
TZNAME:CET
DTSTART:20261025T010000
END:STANDARD
END:VTIMEZONE
BEGIN:VEVENT
DTSTART;TZID=Europe/Stockholm:20260505T130000
DTEND;TZID=Europe/Stockholm:20260505T160000
DTSTAMP:20260422T165614
CREATED:20260421T201847Z
LAST-MODIFIED:20260421T202725Z
UID:10986-1777986000-1777996800@www.software-center.se
SUMMARY:Cross-company workshop: Superset platforms III
DESCRIPTION:At the previous workshop on superset platforms (organised on April 1st)\, we agreed to run a 3rd workshop as everyone was interested in going more in-depth and discuss the topic further.\n\nThis invite is a placeholder for this upcoming workshop so that you have the date in your calendars. We will update this invite with details on the agenda and the specific topics for discussion.\n\nPlease note that date and time and hopefully we will see you on May 5th (13:00 – 16:00)!\n\nAs always\, we can provide a link to those of you who cannot travel.\n\nKind regards\,\nHelena and Jan
URL:https://www.software-center.se/event/superset-platforms-lll/
LOCATION:EDIT Jupiter 473\, Hörselgången 5\, Hörselgången 5\, Gothenburg
CATEGORIES:Workshop
ORGANIZER;CN="Helena%20Holmstr%C3%B6m%20Olsson":MAILTO:helena.holmstrom.olsson@mau.se
END:VEVENT
END:VCALENDAR