BEGIN:VCALENDAR
VERSION:2.0
PRODID:-//Software Center - ECPv5.8.1//NONSGML v1.0//EN
CALSCALE:GREGORIAN
METHOD:PUBLISH
X-WR-CALNAME:Software Center
X-ORIGINAL-URL:https://www.software-center.se
X-WR-CALDESC:Events for Software Center
BEGIN:VTIMEZONE
TZID:Europe/Stockholm
BEGIN:DAYLIGHT
TZOFFSETFROM:+0100
TZOFFSETTO:+0200
TZNAME:CEST
DTSTART:20230326T010000
END:DAYLIGHT
BEGIN:STANDARD
TZOFFSETFROM:+0200
TZOFFSETTO:+0100
TZNAME:CET
DTSTART:20231029T010000
END:STANDARD
END:VTIMEZONE
BEGIN:VEVENT
DTSTART;TZID=Europe/Stockholm:20230117T150000
DTEND;TZID=Europe/Stockholm:20230117T163000
DTSTAMP:20260421T230355
CREATED:20221126T211533Z
LAST-MODIFIED:20221126T214554Z
UID:5285-1673967600-1673973000@www.software-center.se
SUMMARY:Systems Engineering meet-up
DESCRIPTION:Restarting the Systems Engineering community in Software Center:\nWelcome all to an online workshop to kick off the Systems Engineering community again! This meeting is ONLINE (Teams) to keep it simple. \nRegistration:\nPlease register at the link below to get the Teams link to the meeting:\nhttps://forms.gle/9JmEg6Czee3ojSit6 \nSuggested agenda:\n\nWho is who – quick introduction around the table\nRecap of previous objectives (Magnus / Jan)\nDiscussion on suggested themes going forward\nPlan next on-site workshop\n\nNOTE: The Systems Engineering community is mainly for Systems Engineers or similar roles\, i.e. integrating disparate technologies (software + hardware) with a full lifecycle perspective. \nContact:\nMagnus Timmerby\nDigitalization Champion\, FSM Base Mat\, Tetra Pak
URL:https://www.software-center.se/event/systems-engineering-meet-up/
LOCATION:Virtual event\, Sweden
CATEGORIES:Meeting
ORGANIZER;CN="Magnus%20Timmerby":MAILTO:magnus.timmerby@tetrapak.com
END:VEVENT
END:VCALENDAR