BEGIN:VCALENDAR
VERSION:2.0
PRODID:-//Software Center - ECPv5.8.1//NONSGML v1.0//EN
CALSCALE:GREGORIAN
METHOD:PUBLISH
X-WR-CALNAME:Software Center
X-ORIGINAL-URL:https://www.software-center.se
X-WR-CALDESC:Events for Software Center
BEGIN:VTIMEZONE
TZID:Europe/Stockholm
BEGIN:DAYLIGHT
TZOFFSETFROM:+0100
TZOFFSETTO:+0200
TZNAME:CEST
DTSTART:20180325T010000
END:DAYLIGHT
BEGIN:STANDARD
TZOFFSETFROM:+0200
TZOFFSETTO:+0100
TZNAME:CET
DTSTART:20181028T010000
END:STANDARD
END:VTIMEZONE
BEGIN:VEVENT
DTSTART;TZID=Europe/Stockholm:20181207T130000
DTEND;TZID=Europe/Stockholm:20181207T160000
DTSTAMP:20260423T093429
CREATED:20180123T095750Z
LAST-MODIFIED:20181206T203426Z
UID:997-1544187600-1544198400@www.software-center.se
SUMMARY:Task force meeting for planning sprint 16
DESCRIPTION:This meeting takes place at Chalmers Lindholmen and over BlueJeans\, 13.00-16.00. \nAddress: Hörselgången 5\, room EDIT Jupiter 473
URL:https://www.software-center.se/event/task-force-meeting-for-planning-sprint-16/
END:VEVENT
END:VCALENDAR